{"text_format":"1","workbook":"xlsx","n_sheets":3,"sheets":["Dashboard","Daten","Stage"],"not_rendered":{"charts":1,"images":1,"macros":1,"external_links":0,"defined_names":16,"comments":0,"pivot_tables":0},"unopened":[],"bounds":{"document_bytes":16777216,"sheet_cells":100000,"rows_first":2000,"rows_last":500,"rows_between":2000,"halvings":0,"cell_chars":16384,"cell_head_chars":4096},"cells_cut":0,"cells_raw":0,"read":"whole","date_system":"1900"}

{"sheet":"Dashboard","index":0,"n_rows":26,"n_cols":11,"rows_kept":26,"cut":false,"hidden":false,"merged":[[18,0,25,0]]}
[]
[null,"Endverbraucher-Ausgaben für Energie (1980 - 2010)"]
[null,"Daten von Schweizerischem Bundesamt für Statistik"]
[null,"Angaben:"]
[null,"in Mil. CHF"]
[null,"als % von Total",null,"(Rubriken durch anklicken auswählen)"]
[null,"Jahr",null,"Total","Erdölbrennstoffe","Treibstoffe","Elektrizität","Gas","Kohle","Holz","Fernwärme"]
[null,{"$f":"OFFSET(Daten!A9,Scrollbar,0)","v":2003},null,{"$f":"OFFSET(Daten!I9,Scrollbar,OptionButtonMultiplier)","v":22730},{"$f":"OFFSET(Daten!B9,Scrollbar,OptionButtonMultiplier)","v":2500},{"$f":"OFFSET(Daten!C9,Scrollbar,OptionButtonMultiplier)","v":9920},{"$f":"OFFSET(Daten!D9,Scrollbar,OptionButtonMultiplier)","v":8480},{"$f":"OFFSET(Daten!E9,Scrollbar,OptionButtonMultiplier)","v":1380},{"$f":"OFFSET(Daten!F9,Scrollbar,OptionButtonMultiplier)","v":20},{"$f":"OFFSET(Daten!G9,Scrollbar,OptionButtonMultiplier)","v":160},{"$f":"OFFSET(Daten!H9,Scrollbar,OptionButtonMultiplier)","v":270}]
[null,{"$f":"OFFSET(Daten!A10,Scrollbar,0)","v":2004},null,{"$f":"OFFSET(Daten!I10,Scrollbar,OptionButtonMultiplier)","v":23880},{"$f":"OFFSET(Daten!B10,Scrollbar,OptionButtonMultiplier)","v":2830},{"$f":"OFFSET(Daten!C10,Scrollbar,OptionButtonMultiplier)","v":10520},{"$f":"OFFSET(Daten!D10,Scrollbar,OptionButtonMultiplier)","v":8530},{"$f":"OFFSET(Daten!E10,Scrollbar,OptionButtonMultiplier)","v":1550},{"$f":"OFFSET(Daten!F10,Scrollbar,OptionButtonMultiplier)","v":20},{"$f":"OFFSET(Daten!G10,Scrollbar,OptionButtonMultiplier)","v":160},{"$f":"OFFSET(Daten!H10,Scrollbar,OptionButtonMultiplier)","v":270}]
[null,{"$f":"OFFSET(Daten!A11,Scrollbar,0)","v":2005},null,{"$f":"OFFSET(Daten!I11,Scrollbar,OptionButtonMultiplier)","v":26580},{"$f":"OFFSET(Daten!B11,Scrollbar,OptionButtonMultiplier)","v":3970},{"$f":"OFFSET(Daten!C11,Scrollbar,OptionButtonMultiplier)","v":11870},{"$f":"OFFSET(Daten!D11,Scrollbar,OptionButtonMultiplier)","v":8510},{"$f":"OFFSET(Daten!E11,Scrollbar,OptionButtonMultiplier)","v":1740},{"$f":"OFFSET(Daten!F11,Scrollbar,OptionButtonMultiplier)","v":20},{"$f":"OFFSET(Daten!G11,Scrollbar,OptionButtonMultiplier)","v":170},{"$f":"OFFSET(Daten!H11,Scrollbar,OptionButtonMultiplier)","v":300}]
[null,{"$f":"OFFSET(Daten!A12,Scrollbar,0)","v":2006},null,{"$f":"OFFSET(Daten!I12,Scrollbar,OptionButtonMultiplier)","v":28220},{"$f":"OFFSET(Daten!B12,Scrollbar,OptionButtonMultiplier)","v":4330},{"$f":"OFFSET(Daten!C12,Scrollbar,OptionButtonMultiplier)","v":12850},{"$f":"OFFSET(Daten!D12,Scrollbar,OptionButtonMultiplier)","v":8490},{"$f":"OFFSET(Daten!E12,Scrollbar,OptionButtonMultiplier)","v":2040},{"$f":"OFFSET(Daten!F12,Scrollbar,OptionButtonMultiplier)","v":30},{"$f":"OFFSET(Daten!G12,Scrollbar,OptionButtonMultiplier)","v":180},{"$f":"OFFSET(Daten!H12,Scrollbar,OptionButtonMultiplier)","v":300}]
[null,{"$f":"OFFSET(Daten!A13,Scrollbar,0)","v":2007},null,{"$f":"OFFSET(Daten!I13,Scrollbar,OptionButtonMultiplier)","v":28290},{"$f":"OFFSET(Daten!B13,Scrollbar,OptionButtonMultiplier)","v":3850},{"$f":"OFFSET(Daten!C13,Scrollbar,OptionButtonMultiplier)","v":13450},{"$f":"OFFSET(Daten!D13,Scrollbar,OptionButtonMultiplier)","v":8320},{"$f":"OFFSET(Daten!E13,Scrollbar,OptionButtonMultiplier)","v":2140},{"$f":"OFFSET(Daten!F13,Scrollbar,OptionButtonMultiplier)","v":40},{"$f":"OFFSET(Daten!G13,Scrollbar,OptionButtonMultiplier)","v":190},{"$f":"OFFSET(Daten!H13,Scrollbar,OptionButtonMultiplier)","v":300}]
[null,{"$f":"OFFSET(Daten!A14,Scrollbar,0)","v":2008},null,{"$f":"OFFSET(Daten!I14,Scrollbar,OptionButtonMultiplier)","v":32680},{"$f":"OFFSET(Daten!B14,Scrollbar,OptionButtonMultiplier)","v":5480},{"$f":"OFFSET(Daten!C14,Scrollbar,OptionButtonMultiplier)","v":15390},{"$f":"OFFSET(Daten!D14,Scrollbar,OptionButtonMultiplier)","v":8590},{"$f":"OFFSET(Daten!E14,Scrollbar,OptionButtonMultiplier)","v":2590},{"$f":"OFFSET(Daten!F14,Scrollbar,OptionButtonMultiplier)","v":50},{"$f":"OFFSET(Daten!G14,Scrollbar,OptionButtonMultiplier)","v":220},{"$f":"OFFSET(Daten!H14,Scrollbar,OptionButtonMultiplier)","v":360}]
[null,{"$f":"OFFSET(Daten!A15,Scrollbar,0)","v":2009},null,{"$f":"OFFSET(Daten!I15,Scrollbar,OptionButtonMultiplier)","v":27580},{"$f":"OFFSET(Daten!B15,Scrollbar,OptionButtonMultiplier)","v":3270},{"$f":"OFFSET(Daten!C15,Scrollbar,OptionButtonMultiplier)","v":12180},{"$f":"OFFSET(Daten!D15,Scrollbar,OptionButtonMultiplier)","v":9200},{"$f":"OFFSET(Daten!E15,Scrollbar,OptionButtonMultiplier)","v":2320},{"$f":"OFFSET(Daten!F15,Scrollbar,OptionButtonMultiplier)","v":50},{"$f":"OFFSET(Daten!G15,Scrollbar,OptionButtonMultiplier)","v":230},{"$f":"OFFSET(Daten!H15,Scrollbar,OptionButtonMultiplier)","v":330}]
[null,{"$f":"OFFSET(Daten!A16,Scrollbar,0)","v":2010},null,{"$f":"OFFSET(Daten!I16,Scrollbar,OptionButtonMultiplier)","v":30530},{"$f":"OFFSET(Daten!B16,Scrollbar,OptionButtonMultiplier)","v":4290},{"$f":"OFFSET(Daten!C16,Scrollbar,OptionButtonMultiplier)","v":13240},{"$f":"OFFSET(Daten!D16,Scrollbar,OptionButtonMultiplier)","v":9960},{"$f":"OFFSET(Daten!E16,Scrollbar,OptionButtonMultiplier)","v":2400},{"$f":"OFFSET(Daten!F16,Scrollbar,OptionButtonMultiplier)","v":40},{"$f":"OFFSET(Daten!G16,Scrollbar,OptionButtonMultiplier)","v":250},{"$f":"OFFSET(Daten!H16,Scrollbar,OptionButtonMultiplier)","v":350}]
[]
[]
[]
["(Rubriken durch anklicken auswählen)","Total"]
[null,"Erdölbrennstoffe"]
[null,"Treibstoffe"]
[null,"Elektrizität"]
[null,"Gas"]
[null,"Kohle"]
[null,"Holz"]
[null,"Fernwärme"]

{"sheet":"Daten","index":1,"n_rows":49,"n_cols":22,"rows_kept":49,"cut":false,"hidden":false,"merged":[]}
["Endverbraucher-Ausgaben für Energie in Millionen Franken"]
[]
[]
[]
[]
[]
["Nominal Werte",null,null,null,null,null,null,null,null,null,null,"Als %",null,null,null,null,null,null,null,null,null,"Graph1"]
[null,"Erdölbrennstoffe","Treibstoffe","Elektrizität","Gas","Kohle","Holz","Fernwärme","Total","Total in % des Bruttoinlandprodukts",null,null,"Erdölbrennstoffe","Treibstoffe","Elektrizität","Gas","Kohle","Holz","Fernwärme","Total",null,{"$f":"IF(ISNA(MATCH(OnClick,EnergyTypes,0)),\"Total\",OnClick)","v":"Total"}]
[1980,4000,5660,4230,480,140,60,150,14720,8,null,"1980",{"$f":"B9/$I9","v":0.27173913043478259},{"$f":"C9/$I9","v":0.38451086956521741},{"$f":"D9/$I9","v":0.28736413043478259},{"$f":"E9/$I9","v":3.2608695652173912E-2},{"$f":"F9/$I9","v":9.5108695652173919E-3},{"$f":"G9/$I9","v":4.076086956521739E-3},{"$f":"H9/$I9","v":1.0190217391304348E-2},{"$f":"I9/$I9","v":1},null,{"$f":"INDEX(INDIRECT(Graph1Title),ROW(A1))","v":14720}]
[1981,4380,6320,4410,630,200,80,170,16190,8.1999999999999993,null,"1981",0.27053736874613959,0.39036442248301423,0.27239036442248299,3.891290920321186E-2,1.2353304508956145E-2,4.9413218035824586E-3,1.0500308832612723E-2,1,null,16190]
[1982,4070,6340,4570,660,210,80,180,16110,7.7,null,"1982",0.25263811297330852,0.39354438237119799,0.28367473618870265,4.0968342644320296E-2,1.3035381750465549E-2,4.9658597144630664E-3,1.11731843575419E-2,1,null,16110]
[1983,4000,6350,4920,690,160,80,200,16400,7.6,null,"1983",0.24390243902439024,0.38719512195121952,0.3,4.207317073170732E-2,9.7560975609756097E-3,4.8780487804878049E-3,1.2195121951219513E-2,1,null,16400]
[1984,4190,6520,5220,770,160,80,200,17140,7.4,null,"1984",0.24445740956826137,0.38039673278879815,0.30455075845974328,4.4924154025670945E-2,9.3348891481913644E-3,4.6674445740956822E-3,1.1668611435239206E-2,1,null,17140]
[1985,4680,7070,5580,790,150,80,210,18560,7.6,null,"1985",0.25215517241379309,0.38092672413793105,0.30064655172413796,4.2564655172413791E-2,8.0818965517241385E-3,4.3103448275862068E-3,1.1314655172413793E-2,1,null,18560]
[1986,2780,5840,5840,820,140,80,200,15700,6.1,null,"1986",0.1770700636942675,0.3719745222929936,0.3719745222929936,5.2229299363057327E-2,8.9171974522292991E-3,5.0955414012738851E-3,1.2738853503184714E-2,1,null,15700]
[1987,2040,5700,6040,860,140,80,170,15030,5.6,null,"1987",0.13572854291417166,0.37924151696606784,0.40186294078509649,5.7218895542248835E-2,9.3147039254823684E-3,5.3226879574184965E-3,1.1310711909514305E-2,1,null,15030]
[1988,1770,5790,6210,750,120,80,140,14860,5.3,null,"1988",0.11911170928667564,0.38963660834454911,0.41790040376850607,5.0471063257065948E-2,8.0753701211305519E-3,5.3835800807537013E-3,9.4212651413189772E-3,1,null,14860]
[1989,2040,6630,6450,790,120,80,160,16270,5.3,null,"1989",0.12538414259373079,0.40749846342962509,0.39643515673017826,4.855562384757222E-2,7.3755377996312229E-3,4.9170251997541483E-3,9.8340503995082967E-3,1,null,16270]
[1990,2280,7300,6730,860,90,90,180,17530,5.3,null,"1990",0.13006274957216202,0.41642897889332575,0.38391329150028525,4.9058756417569883E-2,5.1340559041642897E-3,5.1340559041642897E-3,1.0268111808328579E-2,1,null,17530]
[1991,2450,7400,7070,920,60,100,190,18190,5.3,null,"1991",0.13468938977460143,0.40681693238042882,0.38867509620670698,5.0577240241891148E-2,3.2985156679494229E-3,5.4975261132490377E-3,1.0445299615173173E-2,1,null,18190]
[1992,2200,7340,7340,1030,40,100,190,18240,5.2,null,"1992",0.1206140350877193,0.40241228070175439,0.40241228070175439,5.6469298245614037E-2,2.1929824561403508E-3,5.4824561403508769E-3,1.0416666666666666E-2,1,null,18240]
[1993,2030,8010,7370,1010,30,120,160,18730,5.2,null,"1993",0.10838227442605446,0.42765616657768285,0.39348638547784304,5.3924185798184733E-2,1.6017084890549919E-3,6.4068339562199676E-3,8.5424452749599568E-3,1,null,18730]
[1994,1670,8300,7730,970,30,130,150,18980,5.0999999999999996,null,"1994",8.7987355110642776E-2,0.43730242360379346,0.40727081138040044,5.1106427818756586E-2,1.5806111696522655E-3,6.8493150684931503E-3,7.9030558482613283E-3,1,null,18980]
[1995,1680,8160,8150,990,30,130,150,19290,5.2,null,"1995",8.7091757387247282E-2,0.42301710730948677,0.42249870399170553,5.1321928460342149E-2,1.5552099533437014E-3,6.7392431311560398E-3,7.7760497667185074E-3,1,null,19290]
[1996,2060,8410,8420,1050,20,130,170,20260,5.4,null,"1996",0.1016781836130306,0.41510365251727543,0.41559723593287268,5.1826258637709774E-2,9.871668311944718E-4,6.4165844027640672E-3,8.3909180651530104E-3,1,null,20260]
[1997,2060,9140,8220,1050,20,150,180,20820,5.4,null,"1997",9.8943323727185395E-2,0.43900096061479349,0.39481268011527376,5.0432276657060522E-2,9.6061479346781938E-4,7.2046109510086453E-3,8.6455331412103754E-3,1,null,20820]
[1998,1680,8870,8220,1080,20,150,190,20210,5.0999999999999996,null,"1998",8.3127164769915884E-2,0.43889163780306778,0.40672934190994559,5.343889163780307E-2,9.8960910440376061E-4,7.4220682830282037E-3,9.4012864918357249E-3,1,null,20210]
[1999,1840,8970,8320,1130,20,150,220,20650,5.0999999999999996,null,"1999",8.9104116222760293E-2,0.43438256658595642,0.40290556900726393,5.4721549636803875E-2,9.6852300242130751E-4,7.2639225181598066E-3,1.0653753026634382E-2,1,null,20650]
[2000,2740,11200,8280,1380,30,140,220,23990,5.7,null,"2000",0.11421425593997499,0.46686119216340144,0.34514380992080035,5.7523968320133387E-2,1.2505210504376823E-3,5.8357649020425173E-3,9.1704877032096708E-3,1,null,23990]
[2001,2670,10540,8470,1700,20,150,250,23800,5.5,null,"2001",0.11218487394957984,0.44285714285714284,0.35588235294117648,7.1428571428571425E-2,8.4033613445378156E-4,6.3025210084033615E-3,1.050420168067227E-2,1,null,23800]
[2002,2220,9870,8360,1550,20,150,250,22420,5.2,null,"2002",9.9018733273862625E-2,0.44023193577163244,0.3728813559322034,6.913470115967886E-2,8.9206066012488853E-4,6.6904549509366638E-3,1.1150758251561105E-2,1,null,22420]
[2003,2500,9920,8480,1380,20,160,270,22730,5.2,null,"2003",0.10998680158380994,0.43642762868455787,0.37307523097228334,6.0712714474263088E-2,8.7989441267047959E-4,7.0391553013638367E-3,1.1878574571051475E-2,1,null,22730]
[2004,2830,10520,8530,1550,20,160,270,23880,5.3,null,"2004",0.11850921273031825,0.44053601340033499,0.35720268006700168,6.4907872696817415E-2,8.375209380234506E-4,6.7001675041876048E-3,1.1306532663316583E-2,1,null,23880]
[2005,3970,11870,8510,1740,20,170,300,26580,5.7,null,"2005",0.14936042136945071,0.44657637321294208,0.32016553799849512,6.5462753950338598E-2,7.5244544770504136E-4,6.395786305492852E-3,1.1286681715575621E-2,1,null,26580]
[2006,4330,12850,8490,2040,30,180,300,28220,5.8,null,"2006",0.15343727852586816,0.45535081502480512,0.3008504606661942,7.2289156626506021E-2,1.0630758327427356E-3,6.3784549964564135E-3,1.0630758327427357E-2,1,null,28220]
[2007,3850,13450,8320,2140,40,190,300,28290,5.4,null,"2007",0.136090491339696,0.4754330151997172,0.2940968540120184,7.5645104277129727E-2,1.4139271827500884E-3,6.7161541180629199E-3,1.0604453870625663E-2,1,null,28290]
[2008,5480,15390,8590,2590,50,220,360,32680,6,null,"2008",0.16768665850673195,0.47093023255813954,0.26285189718482255,7.9253365973072212E-2,1.5299877600979193E-3,6.7319461444308448E-3,1.1015911872705019E-2,1,null,32680]
[2009,3270,12180,9200,2320,50,230,330,27580,5.0999999999999996,null,"2009",0.11856417693981146,0.44162436548223349,0.33357505438723711,8.4118926758520673E-2,1.8129079042784628E-3,8.3393763596809282E-3,1.1965192168237854E-2,1,null,27580]
[2010,4290,13240,9960,2400,40,250,350,30530,5.6,null,"2010",0.14051752374713397,0.43367179823124796,0.32623648869963973,7.8611202096298724E-2,1.3101867016049786E-3,8.1886668850311168E-3,1.1464133639043564E-2,1,null,30530]
[]
[]
["Ausgaben in Millionen Franken: Schätzungen, Revision in Bearbeitung "]
[" "]
["Erdölbrennstoffe, Treibstoffe und Holz: Revidierte Daten im Jahre "]
["2006 und 2007"]
[]
[]
["Endverbraucher:"]
["Gas: Ab 1991 neue Datengrundlage"]

{"sheet":"Stage","index":2,"n_rows":4,"n_cols":4,"rows_kept":4,"cut":false,"hidden":false,"merged":[]}
[]
[null,"Scrollbar",23]
[null,"OptionButtons",1,{"$f":"IF(OptionButton=1,0,11)","v":0}]
[null,"OnClick"]